BEGIN:VCALENDAR
VERSION:2.0
PRODID:-//FIT &amp; FUN NYON - ECPv6.15.17.1//NONSGML v1.0//EN
CALSCALE:GREGORIAN
METHOD:PUBLISH
X-ORIGINAL-URL:https://fitfunnyon.ch
X-WR-CALDESC:Évènements pour FIT &amp; FUN NYON
REFRESH-INTERVAL;VALUE=DURATION:PT1H
X-Robots-Tag:noindex
X-PUBLISHED-TTL:PT1H
BEGIN:VTIMEZONE
TZID:Europe/Zurich
BEGIN:DAYLIGHT
TZOFFSETFROM:+0100
TZOFFSETTO:+0200
TZNAME:CEST
DTSTART:20240331T010000
END:DAYLIGHT
BEGIN:STANDARD
TZOFFSETFROM:+0200
TZOFFSETTO:+0100
TZNAME:CET
DTSTART:20241027T010000
END:STANDARD
BEGIN:DAYLIGHT
TZOFFSETFROM:+0100
TZOFFSETTO:+0200
TZNAME:CEST
DTSTART:20250330T010000
END:DAYLIGHT
BEGIN:STANDARD
TZOFFSETFROM:+0200
TZOFFSETTO:+0100
TZNAME:CET
DTSTART:20251026T010000
END:STANDARD
BEGIN:DAYLIGHT
TZOFFSETFROM:+0100
TZOFFSETTO:+0200
TZNAME:CEST
DTSTART:20260329T010000
END:DAYLIGHT
BEGIN:STANDARD
TZOFFSETFROM:+0200
TZOFFSETTO:+0100
TZNAME:CET
DTSTART:20261025T010000
END:STANDARD
BEGIN:DAYLIGHT
TZOFFSETFROM:+0100
TZOFFSETTO:+0200
TZNAME:CEST
DTSTART:20270328T010000
END:DAYLIGHT
BEGIN:STANDARD
TZOFFSETFROM:+0200
TZOFFSETTO:+0100
TZNAME:CET
DTSTART:20271031T010000
END:STANDARD
END:VTIMEZONE
BEGIN:VEVENT
DTSTART;TZID=Europe/Zurich:20260211T190000
DTEND;TZID=Europe/Zurich:20260211T220000
DTSTAMP:20260421T220053
CREATED:20250721T125547Z
LAST-MODIFIED:20260220T123236Z
UID:10002624-1770836400-1770847200@fitfunnyon.ch
SUMMARY:Leçon de Volley saison 2025-2026
DESCRIPTION:Leçon de Volley \n 
URL:https://fitfunnyon.ch/event/lecon-de-volley-saison-2025-2026/2026-02-11/
LOCATION:Salles TANDEM\, Route de Clémenty\, Nyon
CATEGORIES:Volley
ORGANIZER;CN="Fit & Fun":MAILTO:president@fitfunnyon.ch
END:VEVENT
BEGIN:VEVENT
DTSTART;TZID=Europe/Zurich:20260204T190000
DTEND;TZID=Europe/Zurich:20260204T220000
DTSTAMP:20260421T220053
CREATED:20250721T125547Z
LAST-MODIFIED:20260220T123236Z
UID:10002623-1770231600-1770242400@fitfunnyon.ch
SUMMARY:Leçon de Volley saison 2025-2026
DESCRIPTION:Leçon de Volley \n 
URL:https://fitfunnyon.ch/event/lecon-de-volley-saison-2025-2026/2026-02-04/
LOCATION:Salles TANDEM\, Route de Clémenty\, Nyon
CATEGORIES:Volley
ORGANIZER;CN="Fit & Fun":MAILTO:president@fitfunnyon.ch
END:VEVENT
BEGIN:VEVENT
DTSTART;TZID=Europe/Zurich:20260128T190000
DTEND;TZID=Europe/Zurich:20260128T220000
DTSTAMP:20260421T220053
CREATED:20250721T125547Z
LAST-MODIFIED:20260220T123236Z
UID:10002622-1769626800-1769637600@fitfunnyon.ch
SUMMARY:Leçon de Volley saison 2025-2026
DESCRIPTION:Leçon de Volley \n 
URL:https://fitfunnyon.ch/event/lecon-de-volley-saison-2025-2026/2026-01-28/
LOCATION:Salles TANDEM\, Route de Clémenty\, Nyon
CATEGORIES:Volley
ORGANIZER;CN="Fit & Fun":MAILTO:president@fitfunnyon.ch
END:VEVENT
BEGIN:VEVENT
DTSTART;TZID=Europe/Zurich:20260121T193000
DTEND;TZID=Europe/Zurich:20260121T203000
DTSTAMP:20260421T220053
CREATED:20250721T132153Z
LAST-MODIFIED:20260312T162427Z
UID:10002802-1769023800-1769027400@fitfunnyon.ch
SUMMARY:Leçon Gym douce avec Tanja saison 2025-2026 (4ème mercredi)
DESCRIPTION:Leçon Fit-Gym avec Tanja
URL:https://fitfunnyon.ch/event/lecon-gym-douce-avec-tanja-saison-2025-2026-4eme-mercredi/2026-01-21/
LOCATION:école du Couchant Nyon\, rue du Couchant 1\, Nyon\, Vaud\, 1260\, Suisse
CATEGORIES:Leçon avec Tanja
ORGANIZER;CN="Fit & Fun":MAILTO:president@fitfunnyon.ch
END:VEVENT
BEGIN:VEVENT
DTSTART;TZID=Europe/Zurich:20260121T190000
DTEND;TZID=Europe/Zurich:20260121T220000
DTSTAMP:20260421T220053
CREATED:20250721T125547Z
LAST-MODIFIED:20260220T123236Z
UID:10002621-1769022000-1769032800@fitfunnyon.ch
SUMMARY:Leçon de Volley saison 2025-2026
DESCRIPTION:Leçon de Volley \n 
URL:https://fitfunnyon.ch/event/lecon-de-volley-saison-2025-2026/2026-01-21/
LOCATION:Salles TANDEM\, Route de Clémenty\, Nyon
CATEGORIES:Volley
ORGANIZER;CN="Fit & Fun":MAILTO:president@fitfunnyon.ch
END:VEVENT
BEGIN:VEVENT
DTSTART;TZID=Europe/Zurich:20260114T190000
DTEND;TZID=Europe/Zurich:20260114T220000
DTSTAMP:20260421T220053
CREATED:20250721T125547Z
LAST-MODIFIED:20260220T123236Z
UID:10002620-1768417200-1768428000@fitfunnyon.ch
SUMMARY:Leçon de Volley saison 2025-2026
DESCRIPTION:Leçon de Volley \n 
URL:https://fitfunnyon.ch/event/lecon-de-volley-saison-2025-2026/2026-01-14/
LOCATION:Salles TANDEM\, Route de Clémenty\, Nyon
CATEGORIES:Volley
ORGANIZER;CN="Fit & Fun":MAILTO:president@fitfunnyon.ch
END:VEVENT
BEGIN:VEVENT
DTSTART;TZID=Europe/Zurich:20260107T193000
DTEND;TZID=Europe/Zurich:20260107T203000
DTSTAMP:20260421T220053
CREATED:20250721T131152Z
LAST-MODIFIED:20260320T172812Z
UID:10002799-1767814200-1767817800@fitfunnyon.ch
SUMMARY:Leçon Gym douce avec Tanja saison 2025-2026 (2ème mercredi)
DESCRIPTION:Leçon Fit-Gym avec Tanja
URL:https://fitfunnyon.ch/event/lecon-gym-douce-avec-tanja-saison-2025-2026/2026-01-07/
LOCATION:école du Couchant Nyon\, rue du Couchant 1\, Nyon\, Vaud\, 1260\, Suisse
CATEGORIES:Leçon avec Tanja
ORGANIZER;CN="Fit & Fun":MAILTO:president@fitfunnyon.ch
END:VEVENT
BEGIN:VEVENT
DTSTART;TZID=Europe/Zurich:20260107T190000
DTEND;TZID=Europe/Zurich:20260107T220000
DTSTAMP:20260421T220053
CREATED:20250721T125547Z
LAST-MODIFIED:20260220T123236Z
UID:10002619-1767812400-1767823200@fitfunnyon.ch
SUMMARY:Leçon de Volley saison 2025-2026
DESCRIPTION:Leçon de Volley \n 
URL:https://fitfunnyon.ch/event/lecon-de-volley-saison-2025-2026/2026-01-07/
LOCATION:Salles TANDEM\, Route de Clémenty\, Nyon
CATEGORIES:Volley
ORGANIZER;CN="Fit & Fun":MAILTO:president@fitfunnyon.ch
END:VEVENT
BEGIN:VEVENT
DTSTART;TZID=Europe/Zurich:20251217T190000
DTEND;TZID=Europe/Zurich:20251217T220000
DTSTAMP:20260421T220053
CREATED:20250721T125547Z
LAST-MODIFIED:20260220T123236Z
UID:10002618-1765998000-1766008800@fitfunnyon.ch
SUMMARY:Leçon de Volley saison 2025-2026
DESCRIPTION:Leçon de Volley \n 
URL:https://fitfunnyon.ch/event/lecon-de-volley-saison-2025-2026/2025-12-17/
LOCATION:Salles TANDEM\, Route de Clémenty\, Nyon
CATEGORIES:Volley
ORGANIZER;CN="Fit & Fun":MAILTO:president@fitfunnyon.ch
END:VEVENT
BEGIN:VEVENT
DTSTART;TZID=Europe/Zurich:20251210T193000
DTEND;TZID=Europe/Zurich:20251210T203000
DTSTAMP:20260421T220053
CREATED:20250721T131152Z
LAST-MODIFIED:20260320T172812Z
UID:10002664-1765395000-1765398600@fitfunnyon.ch
SUMMARY:Leçon Gym douce avec Tanja saison 2025-2026 (2ème mercredi)
DESCRIPTION:Leçon Fit-Gym avec Tanja
URL:https://fitfunnyon.ch/event/lecon-gym-douce-avec-tanja-saison-2025-2026/2025-12-10/
LOCATION:école du Couchant Nyon\, rue du Couchant 1\, Nyon\, Vaud\, 1260\, Suisse
CATEGORIES:Leçon avec Tanja
ORGANIZER;CN="Fit & Fun":MAILTO:president@fitfunnyon.ch
END:VEVENT
BEGIN:VEVENT
DTSTART;TZID=Europe/Zurich:20251210T190000
DTEND;TZID=Europe/Zurich:20251210T220000
DTSTAMP:20260421T220053
CREATED:20250721T125547Z
LAST-MODIFIED:20260220T123236Z
UID:10002617-1765393200-1765404000@fitfunnyon.ch
SUMMARY:Leçon de Volley saison 2025-2026
DESCRIPTION:Leçon de Volley \n 
URL:https://fitfunnyon.ch/event/lecon-de-volley-saison-2025-2026/2025-12-10/
LOCATION:Salles TANDEM\, Route de Clémenty\, Nyon
CATEGORIES:Volley
ORGANIZER;CN="Fit & Fun":MAILTO:president@fitfunnyon.ch
END:VEVENT
BEGIN:VEVENT
DTSTART;TZID=Europe/Zurich:20251203T190000
DTEND;TZID=Europe/Zurich:20251203T220000
DTSTAMP:20260421T220053
CREATED:20250721T125547Z
LAST-MODIFIED:20260220T123236Z
UID:10002616-1764788400-1764799200@fitfunnyon.ch
SUMMARY:Leçon de Volley saison 2025-2026
DESCRIPTION:Leçon de Volley \n 
URL:https://fitfunnyon.ch/event/lecon-de-volley-saison-2025-2026/2025-12-03/
LOCATION:Salles TANDEM\, Route de Clémenty\, Nyon
CATEGORIES:Volley
ORGANIZER;CN="Fit & Fun":MAILTO:president@fitfunnyon.ch
END:VEVENT
BEGIN:VEVENT
DTSTART;TZID=Europe/Zurich:20251126T193000
DTEND;TZID=Europe/Zurich:20251126T203000
DTSTAMP:20260421T220053
CREATED:20250721T132153Z
LAST-MODIFIED:20260312T162427Z
UID:10002689-1764185400-1764189000@fitfunnyon.ch
SUMMARY:Leçon Gym douce avec Tanja saison 2025-2026 (4ème mercredi)
DESCRIPTION:Leçon Fit-Gym avec Tanja
URL:https://fitfunnyon.ch/event/lecon-gym-douce-avec-tanja-saison-2025-2026-4eme-mercredi/2025-11-26/
LOCATION:école du Couchant Nyon\, rue du Couchant 1\, Nyon\, Vaud\, 1260\, Suisse
CATEGORIES:Leçon avec Tanja
ORGANIZER;CN="Fit & Fun":MAILTO:president@fitfunnyon.ch
END:VEVENT
BEGIN:VEVENT
DTSTART;TZID=Europe/Zurich:20251126T190000
DTEND;TZID=Europe/Zurich:20251126T220000
DTSTAMP:20260421T220053
CREATED:20250721T125547Z
LAST-MODIFIED:20260220T123236Z
UID:10002615-1764183600-1764194400@fitfunnyon.ch
SUMMARY:Leçon de Volley saison 2025-2026
DESCRIPTION:Leçon de Volley \n 
URL:https://fitfunnyon.ch/event/lecon-de-volley-saison-2025-2026/2025-11-26/
LOCATION:Salles TANDEM\, Route de Clémenty\, Nyon
CATEGORIES:Volley
ORGANIZER;CN="Fit & Fun":MAILTO:president@fitfunnyon.ch
END:VEVENT
BEGIN:VEVENT
DTSTART;TZID=Europe/Zurich:20251119T190000
DTEND;TZID=Europe/Zurich:20251119T220000
DTSTAMP:20260421T220053
CREATED:20250721T125547Z
LAST-MODIFIED:20260220T123236Z
UID:10002614-1763578800-1763589600@fitfunnyon.ch
SUMMARY:Leçon de Volley saison 2025-2026
DESCRIPTION:Leçon de Volley \n 
URL:https://fitfunnyon.ch/event/lecon-de-volley-saison-2025-2026/2025-11-19/
LOCATION:Salles TANDEM\, Route de Clémenty\, Nyon
CATEGORIES:Volley
ORGANIZER;CN="Fit & Fun":MAILTO:president@fitfunnyon.ch
END:VEVENT
BEGIN:VEVENT
DTSTART;TZID=Europe/Zurich:20251112T193000
DTEND;TZID=Europe/Zurich:20251112T203000
DTSTAMP:20260421T220053
CREATED:20250721T131152Z
LAST-MODIFIED:20260320T172812Z
UID:10002663-1762975800-1762979400@fitfunnyon.ch
SUMMARY:Leçon Gym douce avec Tanja saison 2025-2026 (2ème mercredi)
DESCRIPTION:Leçon Fit-Gym avec Tanja
URL:https://fitfunnyon.ch/event/lecon-gym-douce-avec-tanja-saison-2025-2026/2025-11-12/
LOCATION:école du Couchant Nyon\, rue du Couchant 1\, Nyon\, Vaud\, 1260\, Suisse
CATEGORIES:Leçon avec Tanja
ORGANIZER;CN="Fit & Fun":MAILTO:president@fitfunnyon.ch
END:VEVENT
BEGIN:VEVENT
DTSTART;TZID=Europe/Zurich:20251112T190000
DTEND;TZID=Europe/Zurich:20251112T220000
DTSTAMP:20260421T220053
CREATED:20250721T125547Z
LAST-MODIFIED:20260220T123236Z
UID:10002613-1762974000-1762984800@fitfunnyon.ch
SUMMARY:Leçon de Volley saison 2025-2026
DESCRIPTION:Leçon de Volley \n 
URL:https://fitfunnyon.ch/event/lecon-de-volley-saison-2025-2026/2025-11-12/
LOCATION:Salles TANDEM\, Route de Clémenty\, Nyon
CATEGORIES:Volley
ORGANIZER;CN="Fit & Fun":MAILTO:president@fitfunnyon.ch
END:VEVENT
BEGIN:VEVENT
DTSTART;TZID=Europe/Zurich:20251105T190000
DTEND;TZID=Europe/Zurich:20251105T220000
DTSTAMP:20260421T220053
CREATED:20250721T125547Z
LAST-MODIFIED:20260220T123236Z
UID:10002612-1762369200-1762380000@fitfunnyon.ch
SUMMARY:Leçon de Volley saison 2025-2026
DESCRIPTION:Leçon de Volley \n 
URL:https://fitfunnyon.ch/event/lecon-de-volley-saison-2025-2026/2025-11-05/
LOCATION:Salles TANDEM\, Route de Clémenty\, Nyon
CATEGORIES:Volley
ORGANIZER;CN="Fit & Fun":MAILTO:president@fitfunnyon.ch
END:VEVENT
BEGIN:VEVENT
DTSTART;TZID=Europe/Zurich:20251029T190000
DTEND;TZID=Europe/Zurich:20251029T220000
DTSTAMP:20260421T220053
CREATED:20250721T125547Z
LAST-MODIFIED:20260220T123236Z
UID:10002611-1761764400-1761775200@fitfunnyon.ch
SUMMARY:Leçon de Volley saison 2025-2026
DESCRIPTION:Leçon de Volley \n 
URL:https://fitfunnyon.ch/event/lecon-de-volley-saison-2025-2026/2025-10-29/
LOCATION:Salles TANDEM\, Route de Clémenty\, Nyon
CATEGORIES:Volley
ORGANIZER;CN="Fit & Fun":MAILTO:president@fitfunnyon.ch
END:VEVENT
BEGIN:VEVENT
DTSTART;TZID=Europe/Zurich:20251008T193000
DTEND;TZID=Europe/Zurich:20251008T203000
DTSTAMP:20260421T220053
CREATED:20250721T131152Z
LAST-MODIFIED:20260320T172812Z
UID:10002662-1759951800-1759955400@fitfunnyon.ch
SUMMARY:Leçon Gym douce avec Tanja saison 2025-2026 (2ème mercredi)
DESCRIPTION:Leçon Fit-Gym avec Tanja
URL:https://fitfunnyon.ch/event/lecon-gym-douce-avec-tanja-saison-2025-2026/2025-10-08/
LOCATION:école du Couchant Nyon\, rue du Couchant 1\, Nyon\, Vaud\, 1260\, Suisse
CATEGORIES:Leçon avec Tanja
ORGANIZER;CN="Fit & Fun":MAILTO:president@fitfunnyon.ch
END:VEVENT
BEGIN:VEVENT
DTSTART;TZID=Europe/Zurich:20251008T190000
DTEND;TZID=Europe/Zurich:20251008T220000
DTSTAMP:20260421T220053
CREATED:20250721T125547Z
LAST-MODIFIED:20260220T123236Z
UID:10002610-1759950000-1759960800@fitfunnyon.ch
SUMMARY:Leçon de Volley saison 2025-2026
DESCRIPTION:Leçon de Volley \n 
URL:https://fitfunnyon.ch/event/lecon-de-volley-saison-2025-2026/2025-10-08/
LOCATION:Salles TANDEM\, Route de Clémenty\, Nyon
CATEGORIES:Volley
ORGANIZER;CN="Fit & Fun":MAILTO:president@fitfunnyon.ch
END:VEVENT
BEGIN:VEVENT
DTSTART;TZID=Europe/Zurich:20251001T190000
DTEND;TZID=Europe/Zurich:20251001T220000
DTSTAMP:20260421T220053
CREATED:20250721T125547Z
LAST-MODIFIED:20260220T123236Z
UID:10002609-1759345200-1759356000@fitfunnyon.ch
SUMMARY:Leçon de Volley saison 2025-2026
DESCRIPTION:Leçon de Volley \n 
URL:https://fitfunnyon.ch/event/lecon-de-volley-saison-2025-2026/2025-10-01/
LOCATION:Salles TANDEM\, Route de Clémenty\, Nyon
CATEGORIES:Volley
ORGANIZER;CN="Fit & Fun":MAILTO:president@fitfunnyon.ch
END:VEVENT
BEGIN:VEVENT
DTSTART;TZID=Europe/Zurich:20250924T193000
DTEND;TZID=Europe/Zurich:20250924T203000
DTSTAMP:20260421T220053
CREATED:20250721T132153Z
LAST-MODIFIED:20260312T162427Z
UID:10002687-1758742200-1758745800@fitfunnyon.ch
SUMMARY:Leçon Gym douce avec Tanja saison 2025-2026 (4ème mercredi)
DESCRIPTION:Leçon Fit-Gym avec Tanja
URL:https://fitfunnyon.ch/event/lecon-gym-douce-avec-tanja-saison-2025-2026-4eme-mercredi/2025-09-24/
LOCATION:école du Couchant Nyon\, rue du Couchant 1\, Nyon\, Vaud\, 1260\, Suisse
CATEGORIES:Leçon avec Tanja
ORGANIZER;CN="Fit & Fun":MAILTO:president@fitfunnyon.ch
END:VEVENT
BEGIN:VEVENT
DTSTART;TZID=Europe/Zurich:20250924T190000
DTEND;TZID=Europe/Zurich:20250924T220000
DTSTAMP:20260421T220053
CREATED:20250721T125547Z
LAST-MODIFIED:20260220T123236Z
UID:10002608-1758740400-1758751200@fitfunnyon.ch
SUMMARY:Leçon de Volley saison 2025-2026
DESCRIPTION:Leçon de Volley \n 
URL:https://fitfunnyon.ch/event/lecon-de-volley-saison-2025-2026/2025-09-24/
LOCATION:Salles TANDEM\, Route de Clémenty\, Nyon
CATEGORIES:Volley
ORGANIZER;CN="Fit & Fun":MAILTO:president@fitfunnyon.ch
END:VEVENT
BEGIN:VEVENT
DTSTART;TZID=Europe/Zurich:20250917T193000
DTEND;TZID=Europe/Zurich:20250917T203000
DTSTAMP:20260421T220053
CREATED:20250721T132153Z
LAST-MODIFIED:20260312T162427Z
UID:10002797-1758137400-1758141000@fitfunnyon.ch
SUMMARY:Leçon Gym douce avec Tanja saison 2025-2026 (4ème mercredi)
DESCRIPTION:Leçon Fit-Gym avec Tanja
URL:https://fitfunnyon.ch/event/lecon-gym-douce-avec-tanja-saison-2025-2026-4eme-mercredi/2025-09-17/
LOCATION:école du Couchant Nyon\, rue du Couchant 1\, Nyon\, Vaud\, 1260\, Suisse
CATEGORIES:Leçon avec Tanja
ORGANIZER;CN="Fit & Fun":MAILTO:president@fitfunnyon.ch
END:VEVENT
BEGIN:VEVENT
DTSTART;TZID=Europe/Zurich:20250917T190000
DTEND;TZID=Europe/Zurich:20250917T220000
DTSTAMP:20260421T220053
CREATED:20250721T125547Z
LAST-MODIFIED:20260220T123236Z
UID:10002607-1758135600-1758146400@fitfunnyon.ch
SUMMARY:Leçon de Volley saison 2025-2026
DESCRIPTION:Leçon de Volley \n 
URL:https://fitfunnyon.ch/event/lecon-de-volley-saison-2025-2026/2025-09-17/
LOCATION:Salles TANDEM\, Route de Clémenty\, Nyon
CATEGORIES:Volley
ORGANIZER;CN="Fit & Fun":MAILTO:president@fitfunnyon.ch
END:VEVENT
BEGIN:VEVENT
DTSTART;TZID=Europe/Zurich:20250910T190000
DTEND;TZID=Europe/Zurich:20250910T220000
DTSTAMP:20260421T220053
CREATED:20250721T125547Z
LAST-MODIFIED:20260220T123236Z
UID:10002606-1757530800-1757541600@fitfunnyon.ch
SUMMARY:Leçon de Volley saison 2025-2026
DESCRIPTION:Leçon de Volley \n 
URL:https://fitfunnyon.ch/event/lecon-de-volley-saison-2025-2026/2025-09-10/
LOCATION:Salles TANDEM\, Route de Clémenty\, Nyon
CATEGORIES:Volley
ORGANIZER;CN="Fit & Fun":MAILTO:president@fitfunnyon.ch
END:VEVENT
BEGIN:VEVENT
DTSTART;TZID=Europe/Zurich:20250903T190000
DTEND;TZID=Europe/Zurich:20250903T220000
DTSTAMP:20260421T220053
CREATED:20250721T125547Z
LAST-MODIFIED:20260220T123236Z
UID:10002605-1756926000-1756936800@fitfunnyon.ch
SUMMARY:Leçon de Volley saison 2025-2026
DESCRIPTION:Leçon de Volley \n 
URL:https://fitfunnyon.ch/event/lecon-de-volley-saison-2025-2026/2025-09-03/
LOCATION:Salles TANDEM\, Route de Clémenty\, Nyon
CATEGORIES:Volley
ORGANIZER;CN="Fit & Fun":MAILTO:president@fitfunnyon.ch
END:VEVENT
BEGIN:VEVENT
DTSTART;TZID=Europe/Zurich:20250827T193000
DTEND;TZID=Europe/Zurich:20250827T203000
DTSTAMP:20260421T220053
CREATED:20250721T132153Z
LAST-MODIFIED:20260312T162427Z
UID:10002686-1756323000-1756326600@fitfunnyon.ch
SUMMARY:Leçon Gym douce avec Tanja saison 2025-2026 (4ème mercredi)
DESCRIPTION:Leçon Fit-Gym avec Tanja
URL:https://fitfunnyon.ch/event/lecon-gym-douce-avec-tanja-saison-2025-2026-4eme-mercredi/2025-08-27/
LOCATION:école du Couchant Nyon\, rue du Couchant 1\, Nyon\, Vaud\, 1260\, Suisse
CATEGORIES:Leçon avec Tanja
ORGANIZER;CN="Fit & Fun":MAILTO:president@fitfunnyon.ch
END:VEVENT
BEGIN:VEVENT
DTSTART;TZID=Europe/Zurich:20250827T190000
DTEND;TZID=Europe/Zurich:20250827T220000
DTSTAMP:20260421T220053
CREATED:20250721T125547Z
LAST-MODIFIED:20260220T123236Z
UID:10002604-1756321200-1756332000@fitfunnyon.ch
SUMMARY:Leçon de Volley saison 2025-2026
DESCRIPTION:Leçon de Volley \n 
URL:https://fitfunnyon.ch/event/lecon-de-volley-saison-2025-2026/2025-08-27/
LOCATION:Salles TANDEM\, Route de Clémenty\, Nyon
CATEGORIES:Volley
ORGANIZER;CN="Fit & Fun":MAILTO:president@fitfunnyon.ch
END:VEVENT
END:VCALENDAR